BEGIN:VCALENDAR
VERSION:2.0
PRODID:-//La fueya cabreiresa - ECPv5.10.0//NONSGML v1.0//EN
CALSCALE:GREGORIAN
METHOD:PUBLISH
X-WR-CALNAME:La fueya cabreiresa
X-ORIGINAL-URL:https://lafueyacabreiresa.com
X-WR-CALDESC:Eventos para La fueya cabreiresa
BEGIN:VTIMEZONE
TZID:UTC
BEGIN:STANDARD
TZOFFSETFROM:+0000
TZOFFSETTO:+0000
TZNAME:UTC
DTSTART:20180101T000000
END:STANDARD
END:VTIMEZONE
BEGIN:VEVENT
DTSTART;TZID=UTC:20180813T193000
DTEND;TZID=UTC:20180813T193000
DTSTAMP:20260421T123835
CREATED:20180809T114701Z
LAST-MODIFIED:20180809T114701Z
UID:2879-1534188600-1534188600@lafueyacabreiresa.com
SUMMARY:Charla "El lobo en el noroeste de Zamora" por Javier Talegón y Paco Almarcha en Valdavido
DESCRIPTION:
URL:https://lafueyacabreiresa.com/event/charla-el-lobo-en-el-noroeste-de-zamora-por-javier-talegon-y-paco-almarcha-en-valdavido
LOCATION:Aula de la Ñaturaleza de Valdaviéu\, Valdavido\, Leó\, 24740\, España
CATEGORIES:Conferencia
END:VEVENT
END:VCALENDAR