BEGIN:VCALENDAR
VERSION:2.0
PRODID:-//La fueya cabreiresa - ECPv5.10.0//NONSGML v1.0//EN
CALSCALE:GREGORIAN
METHOD:PUBLISH
X-WR-CALNAME:La fueya cabreiresa
X-ORIGINAL-URL:https://lafueyacabreiresa.com
X-WR-CALDESC:Eventos para La fueya cabreiresa
BEGIN:VTIMEZONE
TZID:UTC
BEGIN:STANDARD
TZOFFSETFROM:+0000
TZOFFSETTO:+0000
TZNAME:UTC
DTSTART:20190101T000000
END:STANDARD
END:VTIMEZONE
BEGIN:VEVENT
DTSTART;TZID=UTC:20190822T180000
DTEND;TZID=UTC:20190822T190000
DTSTAMP:20260425T170826
CREATED:20190720T093557Z
LAST-MODIFIED:20190720T100329Z
UID:5951-1566496800-1566500400@lafueyacabreiresa.com
SUMMARY:CHARLA-CONCIERTO "ACERCAMIENTO AL ACORDEÓN". ESCUELAS DE TRABAZOS.
DESCRIPTION:
URL:https://lafueyacabreiresa.com/event/charla-concierto-acercamiento-al-acordeon-escuelas-de-trabazos
LOCATION:Trabazos
END:VEVENT
END:VCALENDAR