BEGIN:VCALENDAR
VERSION:2.0
PRODID:-//La fueya cabreiresa - ECPv5.10.0//NONSGML v1.0//EN
CALSCALE:GREGORIAN
METHOD:PUBLISH
X-WR-CALNAME:La fueya cabreiresa
X-ORIGINAL-URL:https://lafueyacabreiresa.com
X-WR-CALDESC:Eventos para La fueya cabreiresa
BEGIN:VTIMEZONE
TZID:UTC
BEGIN:STANDARD
TZOFFSETFROM:+0000
TZOFFSETTO:+0000
TZNAME:UTC
DTSTART:20180101T000000
END:STANDARD
END:VTIMEZONE
BEGIN:VEVENT
DTSTART;VALUE=DATE:20180810
DTEND;VALUE=DATE:20180811
DTSTAMP:20260422T001733
CREATED:20180806T082959Z
LAST-MODIFIED:20180806T084733Z
UID:2807-1533859200-1533945599@lafueyacabreiresa.com
SUMMARY:Campanones en Pozos (por la tarde)
DESCRIPTION:
URL:https://lafueyacabreiresa.com/event/campanones-de-pozos-por-la-tarde
LOCATION:Pozos\, Pozos\, León
CATEGORIES:Mazcaradas
END:VEVENT
END:VCALENDAR