BEGIN:VCALENDAR
VERSION:2.0
PRODID:-//La fueya cabreiresa - ECPv5.10.0//NONSGML v1.0//EN
CALSCALE:GREGORIAN
METHOD:PUBLISH
X-WR-CALNAME:La fueya cabreiresa
X-ORIGINAL-URL:https://lafueyacabreiresa.com
X-WR-CALDESC:Eventos para La fueya cabreiresa
BEGIN:VTIMEZONE
TZID:UTC
BEGIN:STANDARD
TZOFFSETFROM:+0000
TZOFFSETTO:+0000
TZNAME:UTC
DTSTART:20190101T000000
END:STANDARD
END:VTIMEZONE
BEGIN:VEVENT
DTSTART;VALUE=DATE:20190108
DTEND;VALUE=DATE:20190109
DTSTAMP:20260424T115331
CREATED:20190107T083905Z
LAST-MODIFIED:20190107T083905Z
UID:4233-1546905600-1546991999@lafueyacabreiresa.com
SUMMARY:Bibliobús (Salas de la Ribera\, San Pedro de Trones\, El Puente de Domingo Flórez)
DESCRIPTION:
URL:https://lafueyacabreiresa.com/event/bibliobus-salas-de-la-ribera-san-pedro-de-trones-el-puente-de-domingo-florez
CATEGORIES:Bibliobús
END:VEVENT
END:VCALENDAR