BEGIN:VCALENDAR
VERSION:2.0
PRODID:-//La fueya cabreiresa - ECPv5.10.0//NONSGML v1.0//EN
CALSCALE:GREGORIAN
METHOD:PUBLISH
X-WR-CALNAME:La fueya cabreiresa
X-ORIGINAL-URL:https://lafueyacabreiresa.com
X-WR-CALDESC:Eventos para La fueya cabreiresa
BEGIN:VTIMEZONE
TZID:UTC
BEGIN:STANDARD
TZOFFSETFROM:+0000
TZOFFSETTO:+0000
TZNAME:UTC
DTSTART:20210101T000000
END:STANDARD
END:VTIMEZONE
BEGIN:VEVENT
DTSTART;VALUE=DATE:20210823
DTEND;VALUE=DATE:20210824
DTSTAMP:20260422T111248
CREATED:20210807T195402Z
LAST-MODIFIED:20210807T195402Z
UID:10422-1629676800-1629763199@lafueyacabreiresa.com
SUMMARY:Andaina Cascada Agualta - Pozos de Cabrera
DESCRIPTION:
URL:https://lafueyacabreiresa.com/event/andaina-cascada-agualta-pozos-de-cabrera
LOCATION:Pozos\, Pozos\, León
CATEGORIES:Excursión
END:VEVENT
END:VCALENDAR